BEGIN:VCALENDAR
VERSION:2.0
PRODID:-//ON.gr - ΘΕΑΤΡΟ ΚΑΙ ΤΕΧΝΕΣ ΣΤΗΝ ΕΛΛΑΔΑ - ECPv6.3.1//NONSGML v1.0//EN
CALSCALE:GREGORIAN
METHOD:PUBLISH
X-WR-CALNAME:ON.gr - ΘΕΑΤΡΟ ΚΑΙ ΤΕΧΝΕΣ ΣΤΗΝ ΕΛΛΑΔΑ
X-ORIGINAL-URL:https://on.gr
X-WR-CALDESC:ON.gr - ΘΕΑΤΡΟ ΚΑΙ ΤΕΧΝΕΣ ΣΤΗΝ ΕΛΛΑΔΑ - Εκδηλώσεις
REFRESH-INTERVAL;VALUE=DURATION:PT1H
X-Robots-Tag:noindex
X-PUBLISHED-TTL:PT1H
BEGIN:VTIMEZONE
TZID:Europe/Moscow
BEGIN:STANDARD
TZOFFSETFROM:+0300
TZOFFSETTO:+0300
TZNAME:MSK
DTSTART:20260101T000000
END:STANDARD
END:VTIMEZONE
BEGIN:VEVENT
DTSTART;VALUE=DATE:20260509
DTEND;VALUE=DATE:20260511
DTSTAMP:20260421T101020
CREATED:20260420T222434Z
LAST-MODIFIED:20260420T222434Z
UID:912-1778284800-1778457599@on.gr
SUMMARY:ΤΟ ΗΜΕΡΟΛΟΓΙΟ 10 χρόνια μετά στο Θέατρο Ακροπόλ
DESCRIPTION:ΤΟ ΗΜΕΡΟΛΟΓΙΟ 10 χρόνια μετά\nΕκεί όπου ο χορός γίνεται ο τρόπος που ο κόσμος αλλάζει\, χωρίς να το πει ποτέ δυνατά… \nΤο ΗΜΕΡΟΛΟΓΙΟ επιστρέφει ακριβώς 10 χρόνια μετά. Μια διαφορετική ιστορία\, βασισμένη σε ένα παζλ πραγματικών χορευτικών γεγονότων. Πώς ένα απλό χόμπι μπορεί να γίνει τρόπος ζωής\, πώς η αφοσίωση και η αγάπη για τον χορό μπορούν να εμπνεύσουν όχι μόνο τον ίδιο τον χορευτή αλλά και τους γύρω του. Μια παράσταση ύμνος σε αυτούς που συνειδητά αφιερώνουν την ψυχή\, το μυαλό και τον χρόνο τους στον χορό. Ένα ταξίδι στη σύγχρονη εποχή του παραδοσιακού χορού\, που επηρέασε γενιές και γενιές. \n-Και τί χορό κάνει; \n-Παραδοσιακό. \nΕισιτήρια:\nhttps://www.more.com/gr-el/tickets/dance/to-imerologio-10-xronia-meta/
URL:https://on.gr/event/%cf%84%ce%bf-%ce%b7%ce%bc%ce%b5%cf%81%ce%bf%ce%bb%ce%bf%ce%b3%ce%b9%ce%bf-10-%cf%87%cf%81%cf%8c%ce%bd%ce%b9%ce%b1-%ce%bc%ce%b5%cf%84%ce%ac-%cf%83%cf%84%ce%bf-%ce%b8%ce%ad%ce%b1%cf%84%cf%81%ce%bf/
LOCATION:Θέατρο Ακροπόλ
CATEGORIES:Θέατρο
ATTACH;FMTTYPE=image/jpeg:https://on.gr/wp-content/uploads/2026/04/imerologio-cropped-image-1.jpg
END:VEVENT
END:VCALENDAR